BEGIN:VCALENDAR
VERSION:2.0
PRODID:-//Highside Brewing - ECPv6.15.12.2//NONSGML v1.0//EN
CALSCALE:GREGORIAN
METHOD:PUBLISH
X-ORIGINAL-URL:https://highsidebrewing.com
X-WR-CALDESC:Events for Highside Brewing
REFRESH-INTERVAL;VALUE=DURATION:PT1H
X-Robots-Tag:noindex
X-PUBLISHED-TTL:PT1H
BEGIN:VTIMEZONE
TZID:America/Denver
BEGIN:DAYLIGHT
TZOFFSETFROM:-0700
TZOFFSETTO:-0600
TZNAME:MDT
DTSTART:20230312T090000
END:DAYLIGHT
BEGIN:STANDARD
TZOFFSETFROM:-0600
TZOFFSETTO:-0700
TZNAME:MST
DTSTART:20231105T080000
END:STANDARD
BEGIN:DAYLIGHT
TZOFFSETFROM:-0700
TZOFFSETTO:-0600
TZNAME:MDT
DTSTART:20240310T090000
END:DAYLIGHT
BEGIN:STANDARD
TZOFFSETFROM:-0600
TZOFFSETTO:-0700
TZNAME:MST
DTSTART:20241103T080000
END:STANDARD
BEGIN:DAYLIGHT
TZOFFSETFROM:-0700
TZOFFSETTO:-0600
TZNAME:MDT
DTSTART:20250309T090000
END:DAYLIGHT
BEGIN:STANDARD
TZOFFSETFROM:-0600
TZOFFSETTO:-0700
TZNAME:MST
DTSTART:20251102T080000
END:STANDARD
BEGIN:DAYLIGHT
TZOFFSETFROM:-0700
TZOFFSETTO:-0600
TZNAME:MDT
DTSTART:20260308T090000
END:DAYLIGHT
BEGIN:STANDARD
TZOFFSETFROM:-0600
TZOFFSETTO:-0700
TZNAME:MST
DTSTART:20261101T080000
END:STANDARD
BEGIN:DAYLIGHT
TZOFFSETFROM:-0700
TZOFFSETTO:-0600
TZNAME:MDT
DTSTART:20270314T090000
END:DAYLIGHT
BEGIN:STANDARD
TZOFFSETFROM:-0600
TZOFFSETTO:-0700
TZNAME:MST
DTSTART:20271107T080000
END:STANDARD
END:VTIMEZONE
BEGIN:VEVENT
DTSTART;TZID=America/Denver:20250320T190000
DTEND;TZID=America/Denver:20250320T210000
DTSTAMP:20260424T014030
CREATED:20240816T214704Z
LAST-MODIFIED:20250908T195250Z
UID:10006231-1742497200-1742504400@highsidebrewing.com
SUMMARY:Frisco: Live Music with Beau Thomas
DESCRIPTION:Join Beau Thomas as he brings Soul\, R&B and Hip Hop to the stage every Thursday at Highside Frisco. \nWe’re bringing you Summit County’s own Beau Thomas every Thursday night from 7pm – 9pm. \nCome on out and get down with Beau’s unique blend of soul\, R&B\, and hip hop. \nAll drafts: $5
URL:https://highsidebrewing.com/event-detail/live-music-with-beau-thomas/2025-03-20/
LOCATION:Frisco\, 720 Main St\, Frisco\, CO\, 80443\, United States
CATEGORIES:Live Music
ATTACH;FMTTYPE=image/png:https://craftpeak-cooler-images.imgix.net/highside-brewing/Beau-Thomas-11.png?auto=compress%2Cformat&ixlib=php-3.3.1&s=9975fdb0e56c5eeaf1d2778941b69e20
END:VEVENT
BEGIN:VEVENT
DTSTART;TZID=America/Denver:20251030T190000
DTEND;TZID=America/Denver:20251030T210000
DTSTAMP:20260424T014030
CREATED:20240816T214704Z
LAST-MODIFIED:20250908T195250Z
UID:10006263-1761850800-1761858000@highsidebrewing.com
SUMMARY:Frisco: Live Music with Beau Thomas
DESCRIPTION:Join Beau Thomas as he brings Soul\, R&B and Hip Hop to the stage every Thursday at Highside Frisco. \nWe’re bringing you Summit County’s own Beau Thomas every Thursday night from 7pm – 9pm. \nCome on out and get down with Beau’s unique blend of soul\, R&B\, and hip hop. \nAll drafts: $5
URL:https://highsidebrewing.com/event-detail/live-music-with-beau-thomas/2025-10-30/
LOCATION:Frisco\, 720 Main St\, Frisco\, CO\, 80443\, United States
CATEGORIES:Live Music
ATTACH;FMTTYPE=image/png:https://craftpeak-cooler-images.imgix.net/highside-brewing/Beau-Thomas-11.png?auto=compress%2Cformat&ixlib=php-3.3.1&s=9975fdb0e56c5eeaf1d2778941b69e20
END:VEVENT
BEGIN:VEVENT
DTSTART;TZID=America/Denver:20241017T190000
DTEND;TZID=America/Denver:20241017T210000
DTSTAMP:20260424T014030
CREATED:20240816T214704Z
LAST-MODIFIED:20250908T195250Z
UID:10006210-1729191600-1729198800@highsidebrewing.com
SUMMARY:Frisco: Live Music with Beau Thomas
DESCRIPTION:Join Beau Thomas as he brings Soul\, R&B and Hip Hop to the stage every Thursday at Highside Frisco. \nWe’re bringing you Summit County’s own Beau Thomas every Thursday night from 7pm – 9pm. \nCome on out and get down with Beau’s unique blend of soul\, R&B\, and hip hop. \nAll drafts: $5
URL:https://highsidebrewing.com/event-detail/live-music-with-beau-thomas/2024-10-17/
LOCATION:Frisco\, 720 Main St\, Frisco\, CO\, 80443\, United States
CATEGORIES:Live Music
ATTACH;FMTTYPE=image/png:https://craftpeak-cooler-images.imgix.net/highside-brewing/Beau-Thomas-11.png?auto=compress%2Cformat&ixlib=php-3.3.1&s=9975fdb0e56c5eeaf1d2778941b69e20
END:VEVENT
BEGIN:VEVENT
DTSTART;TZID=America/Denver:20250605T190000
DTEND;TZID=America/Denver:20250605T210000
DTSTAMP:20260424T014030
CREATED:20240816T214704Z
LAST-MODIFIED:20250908T195250Z
UID:10006242-1749150000-1749157200@highsidebrewing.com
SUMMARY:Frisco: Live Music with Beau Thomas
DESCRIPTION:Join Beau Thomas as he brings Soul\, R&B and Hip Hop to the stage every Thursday at Highside Frisco. \nWe’re bringing you Summit County’s own Beau Thomas every Thursday night from 7pm – 9pm. \nCome on out and get down with Beau’s unique blend of soul\, R&B\, and hip hop. \nAll drafts: $5
URL:https://highsidebrewing.com/event-detail/live-music-with-beau-thomas/2025-06-05/
LOCATION:Frisco\, 720 Main St\, Frisco\, CO\, 80443\, United States
CATEGORIES:Live Music
ATTACH;FMTTYPE=image/png:https://craftpeak-cooler-images.imgix.net/highside-brewing/Beau-Thomas-11.png?auto=compress%2Cformat&ixlib=php-3.3.1&s=9975fdb0e56c5eeaf1d2778941b69e20
END:VEVENT
BEGIN:VEVENT
DTSTART;TZID=America/Denver:20260115T190000
DTEND;TZID=America/Denver:20260115T210000
DTSTAMP:20260424T014030
CREATED:20240816T214704Z
LAST-MODIFIED:20250908T195250Z
UID:10006274-1768503600-1768510800@highsidebrewing.com
SUMMARY:Frisco: Live Music with Beau Thomas
DESCRIPTION:Join Beau Thomas as he brings Soul\, R&B and Hip Hop to the stage every Thursday at Highside Frisco. \nWe’re bringing you Summit County’s own Beau Thomas every Thursday night from 7pm – 9pm. \nCome on out and get down with Beau’s unique blend of soul\, R&B\, and hip hop. \nAll drafts: $5
URL:https://highsidebrewing.com/event-detail/live-music-with-beau-thomas/2026-01-15/
LOCATION:Frisco\, 720 Main St\, Frisco\, CO\, 80443\, United States
CATEGORIES:Live Music
ATTACH;FMTTYPE=image/png:https://craftpeak-cooler-images.imgix.net/highside-brewing/Beau-Thomas-11.png?auto=compress%2Cformat&ixlib=php-3.3.1&s=9975fdb0e56c5eeaf1d2778941b69e20
END:VEVENT
BEGIN:VEVENT
DTSTART;TZID=America/Denver:20250109T190000
DTEND;TZID=America/Denver:20250109T210000
DTSTAMP:20260424T014030
CREATED:20240816T214704Z
LAST-MODIFIED:20250908T195250Z
UID:10006221-1736449200-1736456400@highsidebrewing.com
SUMMARY:Frisco: Live Music with Beau Thomas
DESCRIPTION:Join Beau Thomas as he brings Soul\, R&B and Hip Hop to the stage every Thursday at Highside Frisco. \nWe’re bringing you Summit County’s own Beau Thomas every Thursday night from 7pm – 9pm. \nCome on out and get down with Beau’s unique blend of soul\, R&B\, and hip hop. \nAll drafts: $5
URL:https://highsidebrewing.com/event-detail/live-music-with-beau-thomas/2025-01-09/
LOCATION:Frisco\, 720 Main St\, Frisco\, CO\, 80443\, United States
CATEGORIES:Live Music
ATTACH;FMTTYPE=image/png:https://craftpeak-cooler-images.imgix.net/highside-brewing/Beau-Thomas-11.png?auto=compress%2Cformat&ixlib=php-3.3.1&s=9975fdb0e56c5eeaf1d2778941b69e20
END:VEVENT
BEGIN:VEVENT
DTSTART;TZID=America/Denver:20250821T190000
DTEND;TZID=America/Denver:20250821T210000
DTSTAMP:20260424T014030
CREATED:20240816T214704Z
LAST-MODIFIED:20250908T195250Z
UID:10006253-1755802800-1755810000@highsidebrewing.com
SUMMARY:Frisco: Live Music with Beau Thomas
DESCRIPTION:Join Beau Thomas as he brings Soul\, R&B and Hip Hop to the stage every Thursday at Highside Frisco. \nWe’re bringing you Summit County’s own Beau Thomas every Thursday night from 7pm – 9pm. \nCome on out and get down with Beau’s unique blend of soul\, R&B\, and hip hop. \nAll drafts: $5
URL:https://highsidebrewing.com/event-detail/live-music-with-beau-thomas/2025-08-21/
LOCATION:Frisco\, 720 Main St\, Frisco\, CO\, 80443\, United States
CATEGORIES:Live Music
ATTACH;FMTTYPE=image/png:https://craftpeak-cooler-images.imgix.net/highside-brewing/Beau-Thomas-11.png?auto=compress%2Cformat&ixlib=php-3.3.1&s=9975fdb0e56c5eeaf1d2778941b69e20
END:VEVENT
BEGIN:VEVENT
DTSTART;TZID=America/Denver:20260402T190000
DTEND;TZID=America/Denver:20260402T210000
DTSTAMP:20260424T014030
CREATED:20240816T214704Z
LAST-MODIFIED:20250908T195250Z
UID:10006285-1775156400-1775163600@highsidebrewing.com
SUMMARY:Frisco: Live Music with Beau Thomas
DESCRIPTION:Join Beau Thomas as he brings Soul\, R&B and Hip Hop to the stage every Thursday at Highside Frisco. \nWe’re bringing you Summit County’s own Beau Thomas every Thursday night from 7pm – 9pm. \nCome on out and get down with Beau’s unique blend of soul\, R&B\, and hip hop. \nAll drafts: $5
URL:https://highsidebrewing.com/event-detail/live-music-with-beau-thomas/2026-04-02/
LOCATION:Frisco\, 720 Main St\, Frisco\, CO\, 80443\, United States
CATEGORIES:Live Music
ATTACH;FMTTYPE=image/png:https://craftpeak-cooler-images.imgix.net/highside-brewing/Beau-Thomas-11.png?auto=compress%2Cformat&ixlib=php-3.3.1&s=9975fdb0e56c5eeaf1d2778941b69e20
END:VEVENT
BEGIN:VEVENT
DTSTART;TZID=America/Denver:20250327T190000
DTEND;TZID=America/Denver:20250327T210000
DTSTAMP:20260424T014030
CREATED:20240816T214704Z
LAST-MODIFIED:20250908T195250Z
UID:10006232-1743102000-1743109200@highsidebrewing.com
SUMMARY:Frisco: Live Music with Beau Thomas
DESCRIPTION:Join Beau Thomas as he brings Soul\, R&B and Hip Hop to the stage every Thursday at Highside Frisco. \nWe’re bringing you Summit County’s own Beau Thomas every Thursday night from 7pm – 9pm. \nCome on out and get down with Beau’s unique blend of soul\, R&B\, and hip hop. \nAll drafts: $5
URL:https://highsidebrewing.com/event-detail/live-music-with-beau-thomas/2025-03-27/
LOCATION:Frisco\, 720 Main St\, Frisco\, CO\, 80443\, United States
CATEGORIES:Live Music
ATTACH;FMTTYPE=image/png:https://craftpeak-cooler-images.imgix.net/highside-brewing/Beau-Thomas-11.png?auto=compress%2Cformat&ixlib=php-3.3.1&s=9975fdb0e56c5eeaf1d2778941b69e20
END:VEVENT
BEGIN:VEVENT
DTSTART;TZID=America/Denver:20251106T190000
DTEND;TZID=America/Denver:20251106T210000
DTSTAMP:20260424T014030
CREATED:20240816T214704Z
LAST-MODIFIED:20250908T195250Z
UID:10006264-1762455600-1762462800@highsidebrewing.com
SUMMARY:Frisco: Live Music with Beau Thomas
DESCRIPTION:Join Beau Thomas as he brings Soul\, R&B and Hip Hop to the stage every Thursday at Highside Frisco. \nWe’re bringing you Summit County’s own Beau Thomas every Thursday night from 7pm – 9pm. \nCome on out and get down with Beau’s unique blend of soul\, R&B\, and hip hop. \nAll drafts: $5
URL:https://highsidebrewing.com/event-detail/live-music-with-beau-thomas/2025-11-06/
LOCATION:Frisco\, 720 Main St\, Frisco\, CO\, 80443\, United States
CATEGORIES:Live Music
ATTACH;FMTTYPE=image/png:https://craftpeak-cooler-images.imgix.net/highside-brewing/Beau-Thomas-11.png?auto=compress%2Cformat&ixlib=php-3.3.1&s=9975fdb0e56c5eeaf1d2778941b69e20
END:VEVENT
BEGIN:VEVENT
DTSTART;TZID=America/Denver:20241024T190000
DTEND;TZID=America/Denver:20241024T210000
DTSTAMP:20260424T014030
CREATED:20240816T214704Z
LAST-MODIFIED:20250908T195250Z
UID:10006211-1729796400-1729803600@highsidebrewing.com
SUMMARY:Frisco: Live Music with Beau Thomas
DESCRIPTION:Join Beau Thomas as he brings Soul\, R&B and Hip Hop to the stage every Thursday at Highside Frisco. \nWe’re bringing you Summit County’s own Beau Thomas every Thursday night from 7pm – 9pm. \nCome on out and get down with Beau’s unique blend of soul\, R&B\, and hip hop. \nAll drafts: $5
URL:https://highsidebrewing.com/event-detail/live-music-with-beau-thomas/2024-10-24/
LOCATION:Frisco\, 720 Main St\, Frisco\, CO\, 80443\, United States
CATEGORIES:Live Music
ATTACH;FMTTYPE=image/png:https://craftpeak-cooler-images.imgix.net/highside-brewing/Beau-Thomas-11.png?auto=compress%2Cformat&ixlib=php-3.3.1&s=9975fdb0e56c5eeaf1d2778941b69e20
END:VEVENT
BEGIN:VEVENT
DTSTART;TZID=America/Denver:20250612T190000
DTEND;TZID=America/Denver:20250612T210000
DTSTAMP:20260424T014030
CREATED:20240816T214704Z
LAST-MODIFIED:20250908T195250Z
UID:10006243-1749754800-1749762000@highsidebrewing.com
SUMMARY:Frisco: Live Music with Beau Thomas
DESCRIPTION:Join Beau Thomas as he brings Soul\, R&B and Hip Hop to the stage every Thursday at Highside Frisco. \nWe’re bringing you Summit County’s own Beau Thomas every Thursday night from 7pm – 9pm. \nCome on out and get down with Beau’s unique blend of soul\, R&B\, and hip hop. \nAll drafts: $5
URL:https://highsidebrewing.com/event-detail/live-music-with-beau-thomas/2025-06-12/
LOCATION:Frisco\, 720 Main St\, Frisco\, CO\, 80443\, United States
CATEGORIES:Live Music
ATTACH;FMTTYPE=image/png:https://craftpeak-cooler-images.imgix.net/highside-brewing/Beau-Thomas-11.png?auto=compress%2Cformat&ixlib=php-3.3.1&s=9975fdb0e56c5eeaf1d2778941b69e20
END:VEVENT
BEGIN:VEVENT
DTSTART;TZID=America/Denver:20260122T190000
DTEND;TZID=America/Denver:20260122T210000
DTSTAMP:20260424T014030
CREATED:20240816T214704Z
LAST-MODIFIED:20250908T195250Z
UID:10006275-1769108400-1769115600@highsidebrewing.com
SUMMARY:Frisco: Live Music with Beau Thomas
DESCRIPTION:Join Beau Thomas as he brings Soul\, R&B and Hip Hop to the stage every Thursday at Highside Frisco. \nWe’re bringing you Summit County’s own Beau Thomas every Thursday night from 7pm – 9pm. \nCome on out and get down with Beau’s unique blend of soul\, R&B\, and hip hop. \nAll drafts: $5
URL:https://highsidebrewing.com/event-detail/live-music-with-beau-thomas/2026-01-22/
LOCATION:Frisco\, 720 Main St\, Frisco\, CO\, 80443\, United States
CATEGORIES:Live Music
ATTACH;FMTTYPE=image/png:https://craftpeak-cooler-images.imgix.net/highside-brewing/Beau-Thomas-11.png?auto=compress%2Cformat&ixlib=php-3.3.1&s=9975fdb0e56c5eeaf1d2778941b69e20
END:VEVENT
BEGIN:VEVENT
DTSTART;TZID=America/Denver:20250116T190000
DTEND;TZID=America/Denver:20250116T210000
DTSTAMP:20260424T014030
CREATED:20240816T214704Z
LAST-MODIFIED:20250908T195250Z
UID:10006222-1737054000-1737061200@highsidebrewing.com
SUMMARY:Frisco: Live Music with Beau Thomas
DESCRIPTION:Join Beau Thomas as he brings Soul\, R&B and Hip Hop to the stage every Thursday at Highside Frisco. \nWe’re bringing you Summit County’s own Beau Thomas every Thursday night from 7pm – 9pm. \nCome on out and get down with Beau’s unique blend of soul\, R&B\, and hip hop. \nAll drafts: $5
URL:https://highsidebrewing.com/event-detail/live-music-with-beau-thomas/2025-01-16/
LOCATION:Frisco\, 720 Main St\, Frisco\, CO\, 80443\, United States
CATEGORIES:Live Music
ATTACH;FMTTYPE=image/png:https://craftpeak-cooler-images.imgix.net/highside-brewing/Beau-Thomas-11.png?auto=compress%2Cformat&ixlib=php-3.3.1&s=9975fdb0e56c5eeaf1d2778941b69e20
END:VEVENT
BEGIN:VEVENT
DTSTART;TZID=America/Denver:20250828T190000
DTEND;TZID=America/Denver:20250828T210000
DTSTAMP:20260424T014030
CREATED:20240816T214704Z
LAST-MODIFIED:20250908T195250Z
UID:10006254-1756407600-1756414800@highsidebrewing.com
SUMMARY:Frisco: Live Music with Beau Thomas
DESCRIPTION:Join Beau Thomas as he brings Soul\, R&B and Hip Hop to the stage every Thursday at Highside Frisco. \nWe’re bringing you Summit County’s own Beau Thomas every Thursday night from 7pm – 9pm. \nCome on out and get down with Beau’s unique blend of soul\, R&B\, and hip hop. \nAll drafts: $5
URL:https://highsidebrewing.com/event-detail/live-music-with-beau-thomas/2025-08-28/
LOCATION:Frisco\, 720 Main St\, Frisco\, CO\, 80443\, United States
CATEGORIES:Live Music
ATTACH;FMTTYPE=image/png:https://craftpeak-cooler-images.imgix.net/highside-brewing/Beau-Thomas-11.png?auto=compress%2Cformat&ixlib=php-3.3.1&s=9975fdb0e56c5eeaf1d2778941b69e20
END:VEVENT
BEGIN:VEVENT
DTSTART;TZID=America/Denver:20260409T190000
DTEND;TZID=America/Denver:20260409T210000
DTSTAMP:20260424T014030
CREATED:20240816T214704Z
LAST-MODIFIED:20250908T195250Z
UID:10006286-1775761200-1775768400@highsidebrewing.com
SUMMARY:Frisco: Live Music with Beau Thomas
DESCRIPTION:Join Beau Thomas as he brings Soul\, R&B and Hip Hop to the stage every Thursday at Highside Frisco. \nWe’re bringing you Summit County’s own Beau Thomas every Thursday night from 7pm – 9pm. \nCome on out and get down with Beau’s unique blend of soul\, R&B\, and hip hop. \nAll drafts: $5
URL:https://highsidebrewing.com/event-detail/live-music-with-beau-thomas/2026-04-09/
LOCATION:Frisco\, 720 Main St\, Frisco\, CO\, 80443\, United States
CATEGORIES:Live Music
ATTACH;FMTTYPE=image/png:https://craftpeak-cooler-images.imgix.net/highside-brewing/Beau-Thomas-11.png?auto=compress%2Cformat&ixlib=php-3.3.1&s=9975fdb0e56c5eeaf1d2778941b69e20
END:VEVENT
END:VCALENDAR