BEGIN:VCALENDAR
VERSION:2.0
PRODID:-//Highside Brewing - ECPv6.15.12.2//NONSGML v1.0//EN
CALSCALE:GREGORIAN
METHOD:PUBLISH
X-WR-CALNAME:Highside Brewing
X-ORIGINAL-URL:https://highsidebrewing.com
X-WR-CALDESC:Events for Highside Brewing
REFRESH-INTERVAL;VALUE=DURATION:PT1H
X-Robots-Tag:noindex
X-PUBLISHED-TTL:PT1H
BEGIN:VTIMEZONE
TZID:America/Denver
BEGIN:DAYLIGHT
TZOFFSETFROM:-0700
TZOFFSETTO:-0600
TZNAME:MDT
DTSTART:20240310T090000
END:DAYLIGHT
BEGIN:STANDARD
TZOFFSETFROM:-0600
TZOFFSETTO:-0700
TZNAME:MST
DTSTART:20241103T080000
END:STANDARD
BEGIN:DAYLIGHT
TZOFFSETFROM:-0700
TZOFFSETTO:-0600
TZNAME:MDT
DTSTART:20250309T090000
END:DAYLIGHT
BEGIN:STANDARD
TZOFFSETFROM:-0600
TZOFFSETTO:-0700
TZNAME:MST
DTSTART:20251102T080000
END:STANDARD
BEGIN:DAYLIGHT
TZOFFSETFROM:-0700
TZOFFSETTO:-0600
TZNAME:MDT
DTSTART:20260308T090000
END:DAYLIGHT
BEGIN:STANDARD
TZOFFSETFROM:-0600
TZOFFSETTO:-0700
TZNAME:MST
DTSTART:20261101T080000
END:STANDARD
BEGIN:DAYLIGHT
TZOFFSETFROM:-0700
TZOFFSETTO:-0600
TZNAME:MDT
DTSTART:20270314T090000
END:DAYLIGHT
BEGIN:STANDARD
TZOFFSETFROM:-0600
TZOFFSETTO:-0700
TZNAME:MST
DTSTART:20271107T080000
END:STANDARD
END:VTIMEZONE
BEGIN:VEVENT
DTSTART;TZID=America/Denver:20260131T110000
DTEND;TZID=America/Denver:20260131T140000
DTSTAMP:20260421T024009
CREATED:20251027T185018Z
LAST-MODIFIED:20251027T185644Z
UID:10007380-1769857200-1769868000@highsidebrewing.com
SUMMARY:Bottomless Mimosas @ Highside Frisco
DESCRIPTION:Join us every Saturday and Sunday from 11am – 2pm for bottomless mimosas
URL:https://highsidebrewing.com/event-detail/bottomless-mimosas-highside-frisco/2026-01-31/
LOCATION:Frisco\, 720 Main St\, Frisco\, CO\, 80443\, United States
ATTACH;FMTTYPE=image/png:https://craftpeak-cooler-images.imgix.net/highside-brewing/Bottomless-Mimosas-11.png?auto=compress%2Cformat&ixlib=php-3.3.1&s=c615bc9a93b76984b3f369385852a444
END:VEVENT
BEGIN:VEVENT
DTSTART;TZID=America/Denver:20251116T110000
DTEND;TZID=America/Denver:20251116T140000
DTSTAMP:20260421T024009
CREATED:20251027T185018Z
LAST-MODIFIED:20251027T185644Z
UID:10007359-1763290800-1763301600@highsidebrewing.com
SUMMARY:Bottomless Mimosas @ Highside Frisco
DESCRIPTION:Join us every Saturday and Sunday from 11am – 2pm for bottomless mimosas
URL:https://highsidebrewing.com/event-detail/bottomless-mimosas-highside-frisco/2025-11-16/
LOCATION:Frisco\, 720 Main St\, Frisco\, CO\, 80443\, United States
ATTACH;FMTTYPE=image/png:https://craftpeak-cooler-images.imgix.net/highside-brewing/Bottomless-Mimosas-11.png?auto=compress%2Cformat&ixlib=php-3.3.1&s=c615bc9a93b76984b3f369385852a444
END:VEVENT
BEGIN:VEVENT
DTSTART;TZID=America/Denver:20260308T110000
DTEND;TZID=America/Denver:20260308T140000
DTSTAMP:20260421T024009
CREATED:20251027T185018Z
LAST-MODIFIED:20251027T185644Z
UID:10007391-1772967600-1772978400@highsidebrewing.com
SUMMARY:Bottomless Mimosas @ Highside Frisco
DESCRIPTION:Join us every Saturday and Sunday from 11am – 2pm for bottomless mimosas
URL:https://highsidebrewing.com/event-detail/bottomless-mimosas-highside-frisco/2026-03-08/
LOCATION:Frisco\, 720 Main St\, Frisco\, CO\, 80443\, United States
ATTACH;FMTTYPE=image/png:https://craftpeak-cooler-images.imgix.net/highside-brewing/Bottomless-Mimosas-11.png?auto=compress%2Cformat&ixlib=php-3.3.1&s=c615bc9a93b76984b3f369385852a444
END:VEVENT
BEGIN:VEVENT
DTSTART;TZID=America/Denver:20251227T110000
DTEND;TZID=America/Denver:20251227T140000
DTSTAMP:20260421T024009
CREATED:20251027T185018Z
LAST-MODIFIED:20251027T185644Z
UID:10007370-1766833200-1766844000@highsidebrewing.com
SUMMARY:Bottomless Mimosas @ Highside Frisco
DESCRIPTION:Join us every Saturday and Sunday from 11am – 2pm for bottomless mimosas
URL:https://highsidebrewing.com/event-detail/bottomless-mimosas-highside-frisco/2025-12-27/
LOCATION:Frisco\, 720 Main St\, Frisco\, CO\, 80443\, United States
ATTACH;FMTTYPE=image/png:https://craftpeak-cooler-images.imgix.net/highside-brewing/Bottomless-Mimosas-11.png?auto=compress%2Cformat&ixlib=php-3.3.1&s=c615bc9a93b76984b3f369385852a444
END:VEVENT
BEGIN:VEVENT
DTSTART;TZID=America/Denver:20260418T110000
DTEND;TZID=America/Denver:20260418T140000
DTSTAMP:20260421T024009
CREATED:20251027T185018Z
LAST-MODIFIED:20251027T185644Z
UID:10007402-1776510000-1776520800@highsidebrewing.com
SUMMARY:Bottomless Mimosas @ Highside Frisco
DESCRIPTION:Join us every Saturday and Sunday from 11am – 2pm for bottomless mimosas
URL:https://highsidebrewing.com/event-detail/bottomless-mimosas-highside-frisco/2026-04-18/
LOCATION:Frisco\, 720 Main St\, Frisco\, CO\, 80443\, United States
ATTACH;FMTTYPE=image/png:https://craftpeak-cooler-images.imgix.net/highside-brewing/Bottomless-Mimosas-11.png?auto=compress%2Cformat&ixlib=php-3.3.1&s=c615bc9a93b76984b3f369385852a444
END:VEVENT
BEGIN:VEVENT
DTSTART;TZID=America/Denver:20260201T110000
DTEND;TZID=America/Denver:20260201T140000
DTSTAMP:20260421T024009
CREATED:20251027T185018Z
LAST-MODIFIED:20251027T185644Z
UID:10007381-1769943600-1769954400@highsidebrewing.com
SUMMARY:Bottomless Mimosas @ Highside Frisco
DESCRIPTION:Join us every Saturday and Sunday from 11am – 2pm for bottomless mimosas
URL:https://highsidebrewing.com/event-detail/bottomless-mimosas-highside-frisco/2026-02-01/
LOCATION:Frisco\, 720 Main St\, Frisco\, CO\, 80443\, United States
ATTACH;FMTTYPE=image/png:https://craftpeak-cooler-images.imgix.net/highside-brewing/Bottomless-Mimosas-11.png?auto=compress%2Cformat&ixlib=php-3.3.1&s=c615bc9a93b76984b3f369385852a444
END:VEVENT
BEGIN:VEVENT
DTSTART;TZID=America/Denver:20251122T110000
DTEND;TZID=America/Denver:20251122T140000
DTSTAMP:20260421T024009
CREATED:20251027T185018Z
LAST-MODIFIED:20251027T185644Z
UID:10007360-1763809200-1763820000@highsidebrewing.com
SUMMARY:Bottomless Mimosas @ Highside Frisco
DESCRIPTION:Join us every Saturday and Sunday from 11am – 2pm for bottomless mimosas
URL:https://highsidebrewing.com/event-detail/bottomless-mimosas-highside-frisco/2025-11-22/
LOCATION:Frisco\, 720 Main St\, Frisco\, CO\, 80443\, United States
ATTACH;FMTTYPE=image/png:https://craftpeak-cooler-images.imgix.net/highside-brewing/Bottomless-Mimosas-11.png?auto=compress%2Cformat&ixlib=php-3.3.1&s=c615bc9a93b76984b3f369385852a444
END:VEVENT
BEGIN:VEVENT
DTSTART;TZID=America/Denver:20260314T110000
DTEND;TZID=America/Denver:20260314T140000
DTSTAMP:20260421T024009
CREATED:20251027T185018Z
LAST-MODIFIED:20251027T185644Z
UID:10007392-1773486000-1773496800@highsidebrewing.com
SUMMARY:Bottomless Mimosas @ Highside Frisco
DESCRIPTION:Join us every Saturday and Sunday from 11am – 2pm for bottomless mimosas
URL:https://highsidebrewing.com/event-detail/bottomless-mimosas-highside-frisco/2026-03-14/
LOCATION:Frisco\, 720 Main St\, Frisco\, CO\, 80443\, United States
ATTACH;FMTTYPE=image/png:https://craftpeak-cooler-images.imgix.net/highside-brewing/Bottomless-Mimosas-11.png?auto=compress%2Cformat&ixlib=php-3.3.1&s=c615bc9a93b76984b3f369385852a444
END:VEVENT
BEGIN:VEVENT
DTSTART;TZID=America/Denver:20251228T110000
DTEND;TZID=America/Denver:20251228T140000
DTSTAMP:20260421T024009
CREATED:20251027T185018Z
LAST-MODIFIED:20251027T185644Z
UID:10007371-1766919600-1766930400@highsidebrewing.com
SUMMARY:Bottomless Mimosas @ Highside Frisco
DESCRIPTION:Join us every Saturday and Sunday from 11am – 2pm for bottomless mimosas
URL:https://highsidebrewing.com/event-detail/bottomless-mimosas-highside-frisco/2025-12-28/
LOCATION:Frisco\, 720 Main St\, Frisco\, CO\, 80443\, United States
ATTACH;FMTTYPE=image/png:https://craftpeak-cooler-images.imgix.net/highside-brewing/Bottomless-Mimosas-11.png?auto=compress%2Cformat&ixlib=php-3.3.1&s=c615bc9a93b76984b3f369385852a444
END:VEVENT
BEGIN:VEVENT
DTSTART;TZID=America/Denver:20260419T110000
DTEND;TZID=America/Denver:20260419T140000
DTSTAMP:20260421T024009
CREATED:20251027T185018Z
LAST-MODIFIED:20251027T185644Z
UID:10007403-1776596400-1776607200@highsidebrewing.com
SUMMARY:Bottomless Mimosas @ Highside Frisco
DESCRIPTION:Join us every Saturday and Sunday from 11am – 2pm for bottomless mimosas
URL:https://highsidebrewing.com/event-detail/bottomless-mimosas-highside-frisco/2026-04-19/
LOCATION:Frisco\, 720 Main St\, Frisco\, CO\, 80443\, United States
ATTACH;FMTTYPE=image/png:https://craftpeak-cooler-images.imgix.net/highside-brewing/Bottomless-Mimosas-11.png?auto=compress%2Cformat&ixlib=php-3.3.1&s=c615bc9a93b76984b3f369385852a444
END:VEVENT
BEGIN:VEVENT
DTSTART;TZID=America/Denver:20260207T110000
DTEND;TZID=America/Denver:20260207T140000
DTSTAMP:20260421T024009
CREATED:20251027T185018Z
LAST-MODIFIED:20251027T185644Z
UID:10007382-1770462000-1770472800@highsidebrewing.com
SUMMARY:Bottomless Mimosas @ Highside Frisco
DESCRIPTION:Join us every Saturday and Sunday from 11am – 2pm for bottomless mimosas
URL:https://highsidebrewing.com/event-detail/bottomless-mimosas-highside-frisco/2026-02-07/
LOCATION:Frisco\, 720 Main St\, Frisco\, CO\, 80443\, United States
ATTACH;FMTTYPE=image/png:https://craftpeak-cooler-images.imgix.net/highside-brewing/Bottomless-Mimosas-11.png?auto=compress%2Cformat&ixlib=php-3.3.1&s=c615bc9a93b76984b3f369385852a444
END:VEVENT
BEGIN:VEVENT
DTSTART;TZID=America/Denver:20251123T110000
DTEND;TZID=America/Denver:20251123T140000
DTSTAMP:20260421T024009
CREATED:20251027T185018Z
LAST-MODIFIED:20251027T185644Z
UID:10007361-1763895600-1763906400@highsidebrewing.com
SUMMARY:Bottomless Mimosas @ Highside Frisco
DESCRIPTION:Join us every Saturday and Sunday from 11am – 2pm for bottomless mimosas
URL:https://highsidebrewing.com/event-detail/bottomless-mimosas-highside-frisco/2025-11-23/
LOCATION:Frisco\, 720 Main St\, Frisco\, CO\, 80443\, United States
ATTACH;FMTTYPE=image/png:https://craftpeak-cooler-images.imgix.net/highside-brewing/Bottomless-Mimosas-11.png?auto=compress%2Cformat&ixlib=php-3.3.1&s=c615bc9a93b76984b3f369385852a444
END:VEVENT
BEGIN:VEVENT
DTSTART;TZID=America/Denver:20260315T110000
DTEND;TZID=America/Denver:20260315T140000
DTSTAMP:20260421T024009
CREATED:20251027T185018Z
LAST-MODIFIED:20251027T185644Z
UID:10007393-1773572400-1773583200@highsidebrewing.com
SUMMARY:Bottomless Mimosas @ Highside Frisco
DESCRIPTION:Join us every Saturday and Sunday from 11am – 2pm for bottomless mimosas
URL:https://highsidebrewing.com/event-detail/bottomless-mimosas-highside-frisco/2026-03-15/
LOCATION:Frisco\, 720 Main St\, Frisco\, CO\, 80443\, United States
ATTACH;FMTTYPE=image/png:https://craftpeak-cooler-images.imgix.net/highside-brewing/Bottomless-Mimosas-11.png?auto=compress%2Cformat&ixlib=php-3.3.1&s=c615bc9a93b76984b3f369385852a444
END:VEVENT
BEGIN:VEVENT
DTSTART;TZID=America/Denver:20260103T110000
DTEND;TZID=America/Denver:20260103T140000
DTSTAMP:20260421T024009
CREATED:20251027T185018Z
LAST-MODIFIED:20251027T185644Z
UID:10007372-1767438000-1767448800@highsidebrewing.com
SUMMARY:Bottomless Mimosas @ Highside Frisco
DESCRIPTION:Join us every Saturday and Sunday from 11am – 2pm for bottomless mimosas
URL:https://highsidebrewing.com/event-detail/bottomless-mimosas-highside-frisco/2026-01-03/
LOCATION:Frisco\, 720 Main St\, Frisco\, CO\, 80443\, United States
ATTACH;FMTTYPE=image/png:https://craftpeak-cooler-images.imgix.net/highside-brewing/Bottomless-Mimosas-11.png?auto=compress%2Cformat&ixlib=php-3.3.1&s=c615bc9a93b76984b3f369385852a444
END:VEVENT
BEGIN:VEVENT
DTSTART;TZID=America/Denver:20260208T110000
DTEND;TZID=America/Denver:20260208T140000
DTSTAMP:20260421T024009
CREATED:20251027T185018Z
LAST-MODIFIED:20251027T185644Z
UID:10007383-1770548400-1770559200@highsidebrewing.com
SUMMARY:Bottomless Mimosas @ Highside Frisco
DESCRIPTION:Join us every Saturday and Sunday from 11am – 2pm for bottomless mimosas
URL:https://highsidebrewing.com/event-detail/bottomless-mimosas-highside-frisco/2026-02-08/
LOCATION:Frisco\, 720 Main St\, Frisco\, CO\, 80443\, United States
ATTACH;FMTTYPE=image/png:https://craftpeak-cooler-images.imgix.net/highside-brewing/Bottomless-Mimosas-11.png?auto=compress%2Cformat&ixlib=php-3.3.1&s=c615bc9a93b76984b3f369385852a444
END:VEVENT
BEGIN:VEVENT
DTSTART;TZID=America/Denver:20251129T110000
DTEND;TZID=America/Denver:20251129T140000
DTSTAMP:20260421T024009
CREATED:20251027T185018Z
LAST-MODIFIED:20251027T185644Z
UID:10007362-1764414000-1764424800@highsidebrewing.com
SUMMARY:Bottomless Mimosas @ Highside Frisco
DESCRIPTION:Join us every Saturday and Sunday from 11am – 2pm for bottomless mimosas
URL:https://highsidebrewing.com/event-detail/bottomless-mimosas-highside-frisco/2025-11-29/
LOCATION:Frisco\, 720 Main St\, Frisco\, CO\, 80443\, United States
ATTACH;FMTTYPE=image/png:https://craftpeak-cooler-images.imgix.net/highside-brewing/Bottomless-Mimosas-11.png?auto=compress%2Cformat&ixlib=php-3.3.1&s=c615bc9a93b76984b3f369385852a444
END:VEVENT
BEGIN:VEVENT
DTSTART;TZID=America/Denver:20260321T110000
DTEND;TZID=America/Denver:20260321T140000
DTSTAMP:20260421T024009
CREATED:20251027T185018Z
LAST-MODIFIED:20251027T185644Z
UID:10007394-1774090800-1774101600@highsidebrewing.com
SUMMARY:Bottomless Mimosas @ Highside Frisco
DESCRIPTION:Join us every Saturday and Sunday from 11am – 2pm for bottomless mimosas
URL:https://highsidebrewing.com/event-detail/bottomless-mimosas-highside-frisco/2026-03-21/
LOCATION:Frisco\, 720 Main St\, Frisco\, CO\, 80443\, United States
ATTACH;FMTTYPE=image/png:https://craftpeak-cooler-images.imgix.net/highside-brewing/Bottomless-Mimosas-11.png?auto=compress%2Cformat&ixlib=php-3.3.1&s=c615bc9a93b76984b3f369385852a444
END:VEVENT
BEGIN:VEVENT
DTSTART;TZID=America/Denver:20260104T110000
DTEND;TZID=America/Denver:20260104T140000
DTSTAMP:20260421T024009
CREATED:20251027T185018Z
LAST-MODIFIED:20251027T185644Z
UID:10007373-1767524400-1767535200@highsidebrewing.com
SUMMARY:Bottomless Mimosas @ Highside Frisco
DESCRIPTION:Join us every Saturday and Sunday from 11am – 2pm for bottomless mimosas
URL:https://highsidebrewing.com/event-detail/bottomless-mimosas-highside-frisco/2026-01-04/
LOCATION:Frisco\, 720 Main St\, Frisco\, CO\, 80443\, United States
ATTACH;FMTTYPE=image/png:https://craftpeak-cooler-images.imgix.net/highside-brewing/Bottomless-Mimosas-11.png?auto=compress%2Cformat&ixlib=php-3.3.1&s=c615bc9a93b76984b3f369385852a444
END:VEVENT
BEGIN:VEVENT
DTSTART;TZID=America/Denver:20260214T110000
DTEND;TZID=America/Denver:20260214T140000
DTSTAMP:20260421T024009
CREATED:20251027T185018Z
LAST-MODIFIED:20251027T185644Z
UID:10007384-1771066800-1771077600@highsidebrewing.com
SUMMARY:Bottomless Mimosas @ Highside Frisco
DESCRIPTION:Join us every Saturday and Sunday from 11am – 2pm for bottomless mimosas
URL:https://highsidebrewing.com/event-detail/bottomless-mimosas-highside-frisco/2026-02-14/
LOCATION:Frisco\, 720 Main St\, Frisco\, CO\, 80443\, United States
ATTACH;FMTTYPE=image/png:https://craftpeak-cooler-images.imgix.net/highside-brewing/Bottomless-Mimosas-11.png?auto=compress%2Cformat&ixlib=php-3.3.1&s=c615bc9a93b76984b3f369385852a444
END:VEVENT
BEGIN:VEVENT
DTSTART;TZID=America/Denver:20251130T110000
DTEND;TZID=America/Denver:20251130T140000
DTSTAMP:20260421T024009
CREATED:20251027T185018Z
LAST-MODIFIED:20251027T185644Z
UID:10007363-1764500400-1764511200@highsidebrewing.com
SUMMARY:Bottomless Mimosas @ Highside Frisco
DESCRIPTION:Join us every Saturday and Sunday from 11am – 2pm for bottomless mimosas
URL:https://highsidebrewing.com/event-detail/bottomless-mimosas-highside-frisco/2025-11-30/
LOCATION:Frisco\, 720 Main St\, Frisco\, CO\, 80443\, United States
ATTACH;FMTTYPE=image/png:https://craftpeak-cooler-images.imgix.net/highside-brewing/Bottomless-Mimosas-11.png?auto=compress%2Cformat&ixlib=php-3.3.1&s=c615bc9a93b76984b3f369385852a444
END:VEVENT
BEGIN:VEVENT
DTSTART;TZID=America/Denver:20260322T110000
DTEND;TZID=America/Denver:20260322T140000
DTSTAMP:20260421T024009
CREATED:20251027T185018Z
LAST-MODIFIED:20251027T185644Z
UID:10007395-1774177200-1774188000@highsidebrewing.com
SUMMARY:Bottomless Mimosas @ Highside Frisco
DESCRIPTION:Join us every Saturday and Sunday from 11am – 2pm for bottomless mimosas
URL:https://highsidebrewing.com/event-detail/bottomless-mimosas-highside-frisco/2026-03-22/
LOCATION:Frisco\, 720 Main St\, Frisco\, CO\, 80443\, United States
ATTACH;FMTTYPE=image/png:https://craftpeak-cooler-images.imgix.net/highside-brewing/Bottomless-Mimosas-11.png?auto=compress%2Cformat&ixlib=php-3.3.1&s=c615bc9a93b76984b3f369385852a444
END:VEVENT
BEGIN:VEVENT
DTSTART;TZID=America/Denver:20260110T110000
DTEND;TZID=America/Denver:20260110T140000
DTSTAMP:20260421T024009
CREATED:20251027T185018Z
LAST-MODIFIED:20251027T185644Z
UID:10007374-1768042800-1768053600@highsidebrewing.com
SUMMARY:Bottomless Mimosas @ Highside Frisco
DESCRIPTION:Join us every Saturday and Sunday from 11am – 2pm for bottomless mimosas
URL:https://highsidebrewing.com/event-detail/bottomless-mimosas-highside-frisco/2026-01-10/
LOCATION:Frisco\, 720 Main St\, Frisco\, CO\, 80443\, United States
ATTACH;FMTTYPE=image/png:https://craftpeak-cooler-images.imgix.net/highside-brewing/Bottomless-Mimosas-11.png?auto=compress%2Cformat&ixlib=php-3.3.1&s=c615bc9a93b76984b3f369385852a444
END:VEVENT
BEGIN:VEVENT
DTSTART;TZID=America/Denver:20260215T110000
DTEND;TZID=America/Denver:20260215T140000
DTSTAMP:20260421T024009
CREATED:20251027T185018Z
LAST-MODIFIED:20251027T185644Z
UID:10007385-1771153200-1771164000@highsidebrewing.com
SUMMARY:Bottomless Mimosas @ Highside Frisco
DESCRIPTION:Join us every Saturday and Sunday from 11am – 2pm for bottomless mimosas
URL:https://highsidebrewing.com/event-detail/bottomless-mimosas-highside-frisco/2026-02-15/
LOCATION:Frisco\, 720 Main St\, Frisco\, CO\, 80443\, United States
ATTACH;FMTTYPE=image/png:https://craftpeak-cooler-images.imgix.net/highside-brewing/Bottomless-Mimosas-11.png?auto=compress%2Cformat&ixlib=php-3.3.1&s=c615bc9a93b76984b3f369385852a444
END:VEVENT
BEGIN:VEVENT
DTSTART;TZID=America/Denver:20251206T110000
DTEND;TZID=America/Denver:20251206T140000
DTSTAMP:20260421T024009
CREATED:20251027T185018Z
LAST-MODIFIED:20251027T185644Z
UID:10007364-1765018800-1765029600@highsidebrewing.com
SUMMARY:Bottomless Mimosas @ Highside Frisco
DESCRIPTION:Join us every Saturday and Sunday from 11am – 2pm for bottomless mimosas
URL:https://highsidebrewing.com/event-detail/bottomless-mimosas-highside-frisco/2025-12-06/
LOCATION:Frisco\, 720 Main St\, Frisco\, CO\, 80443\, United States
ATTACH;FMTTYPE=image/png:https://craftpeak-cooler-images.imgix.net/highside-brewing/Bottomless-Mimosas-11.png?auto=compress%2Cformat&ixlib=php-3.3.1&s=c615bc9a93b76984b3f369385852a444
END:VEVENT
BEGIN:VEVENT
DTSTART;TZID=America/Denver:20260328T110000
DTEND;TZID=America/Denver:20260328T140000
DTSTAMP:20260421T024009
CREATED:20251027T185018Z
LAST-MODIFIED:20251027T185644Z
UID:10007396-1774695600-1774706400@highsidebrewing.com
SUMMARY:Bottomless Mimosas @ Highside Frisco
DESCRIPTION:Join us every Saturday and Sunday from 11am – 2pm for bottomless mimosas
URL:https://highsidebrewing.com/event-detail/bottomless-mimosas-highside-frisco/2026-03-28/
LOCATION:Frisco\, 720 Main St\, Frisco\, CO\, 80443\, United States
ATTACH;FMTTYPE=image/png:https://craftpeak-cooler-images.imgix.net/highside-brewing/Bottomless-Mimosas-11.png?auto=compress%2Cformat&ixlib=php-3.3.1&s=c615bc9a93b76984b3f369385852a444
END:VEVENT
BEGIN:VEVENT
DTSTART;TZID=America/Denver:20260111T110000
DTEND;TZID=America/Denver:20260111T140000
DTSTAMP:20260421T024009
CREATED:20251027T185018Z
LAST-MODIFIED:20251027T185644Z
UID:10007375-1768129200-1768140000@highsidebrewing.com
SUMMARY:Bottomless Mimosas @ Highside Frisco
DESCRIPTION:Join us every Saturday and Sunday from 11am – 2pm for bottomless mimosas
URL:https://highsidebrewing.com/event-detail/bottomless-mimosas-highside-frisco/2026-01-11/
LOCATION:Frisco\, 720 Main St\, Frisco\, CO\, 80443\, United States
ATTACH;FMTTYPE=image/png:https://craftpeak-cooler-images.imgix.net/highside-brewing/Bottomless-Mimosas-11.png?auto=compress%2Cformat&ixlib=php-3.3.1&s=c615bc9a93b76984b3f369385852a444
END:VEVENT
BEGIN:VEVENT
DTSTART;TZID=America/Denver:20251101T110000
DTEND;TZID=America/Denver:20251101T140000
DTSTAMP:20260421T024009
CREATED:20251027T185018Z
LAST-MODIFIED:20251027T185644Z
UID:10007354-1761994800-1762005600@highsidebrewing.com
SUMMARY:Bottomless Mimosas @ Highside Frisco
DESCRIPTION:Join us every Saturday and Sunday from 11am – 2pm for bottomless mimosas
URL:https://highsidebrewing.com/event-detail/bottomless-mimosas-highside-frisco/2025-11-01/
LOCATION:Frisco\, 720 Main St\, Frisco\, CO\, 80443\, United States
ATTACH;FMTTYPE=image/png:https://craftpeak-cooler-images.imgix.net/highside-brewing/Bottomless-Mimosas-11.png?auto=compress%2Cformat&ixlib=php-3.3.1&s=c615bc9a93b76984b3f369385852a444
END:VEVENT
BEGIN:VEVENT
DTSTART;TZID=America/Denver:20260221T110000
DTEND;TZID=America/Denver:20260221T140000
DTSTAMP:20260421T024009
CREATED:20251027T185018Z
LAST-MODIFIED:20251027T185644Z
UID:10007386-1771671600-1771682400@highsidebrewing.com
SUMMARY:Bottomless Mimosas @ Highside Frisco
DESCRIPTION:Join us every Saturday and Sunday from 11am – 2pm for bottomless mimosas
URL:https://highsidebrewing.com/event-detail/bottomless-mimosas-highside-frisco/2026-02-21/
LOCATION:Frisco\, 720 Main St\, Frisco\, CO\, 80443\, United States
ATTACH;FMTTYPE=image/png:https://craftpeak-cooler-images.imgix.net/highside-brewing/Bottomless-Mimosas-11.png?auto=compress%2Cformat&ixlib=php-3.3.1&s=c615bc9a93b76984b3f369385852a444
END:VEVENT
BEGIN:VEVENT
DTSTART;TZID=America/Denver:20251207T110000
DTEND;TZID=America/Denver:20251207T140000
DTSTAMP:20260421T024009
CREATED:20251027T185018Z
LAST-MODIFIED:20251027T185644Z
UID:10007365-1765105200-1765116000@highsidebrewing.com
SUMMARY:Bottomless Mimosas @ Highside Frisco
DESCRIPTION:Join us every Saturday and Sunday from 11am – 2pm for bottomless mimosas
URL:https://highsidebrewing.com/event-detail/bottomless-mimosas-highside-frisco/2025-12-07/
LOCATION:Frisco\, 720 Main St\, Frisco\, CO\, 80443\, United States
ATTACH;FMTTYPE=image/png:https://craftpeak-cooler-images.imgix.net/highside-brewing/Bottomless-Mimosas-11.png?auto=compress%2Cformat&ixlib=php-3.3.1&s=c615bc9a93b76984b3f369385852a444
END:VEVENT
BEGIN:VEVENT
DTSTART;TZID=America/Denver:20260329T110000
DTEND;TZID=America/Denver:20260329T140000
DTSTAMP:20260421T024009
CREATED:20251027T185018Z
LAST-MODIFIED:20251027T185644Z
UID:10007397-1774782000-1774792800@highsidebrewing.com
SUMMARY:Bottomless Mimosas @ Highside Frisco
DESCRIPTION:Join us every Saturday and Sunday from 11am – 2pm for bottomless mimosas
URL:https://highsidebrewing.com/event-detail/bottomless-mimosas-highside-frisco/2026-03-29/
LOCATION:Frisco\, 720 Main St\, Frisco\, CO\, 80443\, United States
ATTACH;FMTTYPE=image/png:https://craftpeak-cooler-images.imgix.net/highside-brewing/Bottomless-Mimosas-11.png?auto=compress%2Cformat&ixlib=php-3.3.1&s=c615bc9a93b76984b3f369385852a444
END:VEVENT
END:VCALENDAR