BEGIN:VCALENDAR
VERSION:2.0
PRODID:-//Highside Brewing - ECPv6.15.12.2//NONSGML v1.0//EN
CALSCALE:GREGORIAN
METHOD:PUBLISH
X-WR-CALNAME:Highside Brewing
X-ORIGINAL-URL:https://highsidebrewing.com
X-WR-CALDESC:Events for Highside Brewing
REFRESH-INTERVAL;VALUE=DURATION:PT1H
X-Robots-Tag:noindex
X-PUBLISHED-TTL:PT1H
BEGIN:VTIMEZONE
TZID:America/Denver
BEGIN:DAYLIGHT
TZOFFSETFROM:-0700
TZOFFSETTO:-0600
TZNAME:MDT
DTSTART:20240310T090000
END:DAYLIGHT
BEGIN:STANDARD
TZOFFSETFROM:-0600
TZOFFSETTO:-0700
TZNAME:MST
DTSTART:20241103T080000
END:STANDARD
BEGIN:DAYLIGHT
TZOFFSETFROM:-0700
TZOFFSETTO:-0600
TZNAME:MDT
DTSTART:20250309T090000
END:DAYLIGHT
BEGIN:STANDARD
TZOFFSETFROM:-0600
TZOFFSETTO:-0700
TZNAME:MST
DTSTART:20251102T080000
END:STANDARD
BEGIN:DAYLIGHT
TZOFFSETFROM:-0700
TZOFFSETTO:-0600
TZNAME:MDT
DTSTART:20260308T090000
END:DAYLIGHT
BEGIN:STANDARD
TZOFFSETFROM:-0600
TZOFFSETTO:-0700
TZNAME:MST
DTSTART:20261101T080000
END:STANDARD
BEGIN:DAYLIGHT
TZOFFSETFROM:-0700
TZOFFSETTO:-0600
TZNAME:MDT
DTSTART:20270314T090000
END:DAYLIGHT
BEGIN:STANDARD
TZOFFSETFROM:-0600
TZOFFSETTO:-0700
TZNAME:MST
DTSTART:20271107T080000
END:STANDARD
END:VTIMEZONE
BEGIN:VEVENT
DTSTART;TZID=America/Denver:20260120T170000
DTEND;TZID=America/Denver:20260120T200000
DTSTAMP:20260423T102848
CREATED:20251027T184349Z
LAST-MODIFIED:20251027T184413Z
UID:10007105-1768928400-1768939200@highsidebrewing.com
SUMMARY:Frisco: Wax Nights
DESCRIPTION:Join Snowforlife every Tuesday in Frisco for FREE ski and snowboard waxing! Starting at 5pm\, bring your gear by\, Snowforlife will wax until 8pm in the order of gear received.
URL:https://highsidebrewing.com/event-detail/frisco-wax-nights-3/2026-01-20/
LOCATION:Frisco\, 720 Main St\, Frisco\, CO\, 80443\, United States
CATEGORIES:Waxing Night
ATTACH;FMTTYPE=image/jpeg:https://craftpeak-cooler-images.imgix.net/highside-brewing/HSB1PRSM-24.jpg?auto=compress%2Cformat&ixlib=php-3.3.1&s=b3bf738c5851367ca749f7872f5a97b4
END:VEVENT
BEGIN:VEVENT
DTSTART;TZID=America/Denver:20260407T170000
DTEND;TZID=America/Denver:20260407T200000
DTSTAMP:20260423T102848
CREATED:20251027T184349Z
LAST-MODIFIED:20251027T184413Z
UID:10007116-1775581200-1775592000@highsidebrewing.com
SUMMARY:Frisco: Wax Nights
DESCRIPTION:Join Snowforlife every Tuesday in Frisco for FREE ski and snowboard waxing! Starting at 5pm\, bring your gear by\, Snowforlife will wax until 8pm in the order of gear received.
URL:https://highsidebrewing.com/event-detail/frisco-wax-nights-3/2026-04-07/
LOCATION:Frisco\, 720 Main St\, Frisco\, CO\, 80443\, United States
CATEGORIES:Waxing Night
ATTACH;FMTTYPE=image/jpeg:https://craftpeak-cooler-images.imgix.net/highside-brewing/HSB1PRSM-24.jpg?auto=compress%2Cformat&ixlib=php-3.3.1&s=b3bf738c5851367ca749f7872f5a97b4
END:VEVENT
BEGIN:VEVENT
DTSTART;TZID=America/Denver:20251111T170000
DTEND;TZID=America/Denver:20251111T200000
DTSTAMP:20260423T102848
CREATED:20251027T184349Z
LAST-MODIFIED:20251027T184413Z
UID:10007095-1762880400-1762891200@highsidebrewing.com
SUMMARY:Frisco: Wax Nights
DESCRIPTION:Join Snowforlife every Tuesday in Frisco for FREE ski and snowboard waxing! Starting at 5pm\, bring your gear by\, Snowforlife will wax until 8pm in the order of gear received.
URL:https://highsidebrewing.com/event-detail/frisco-wax-nights-3/2025-11-11/
LOCATION:Frisco\, 720 Main St\, Frisco\, CO\, 80443\, United States
CATEGORIES:Waxing Night
ATTACH;FMTTYPE=image/jpeg:https://craftpeak-cooler-images.imgix.net/highside-brewing/HSB1PRSM-24.jpg?auto=compress%2Cformat&ixlib=php-3.3.1&s=b3bf738c5851367ca749f7872f5a97b4
END:VEVENT
BEGIN:VEVENT
DTSTART;TZID=America/Denver:20260127T170000
DTEND;TZID=America/Denver:20260127T200000
DTSTAMP:20260423T102848
CREATED:20251027T184349Z
LAST-MODIFIED:20251027T184413Z
UID:10007106-1769533200-1769544000@highsidebrewing.com
SUMMARY:Frisco: Wax Nights
DESCRIPTION:Join Snowforlife every Tuesday in Frisco for FREE ski and snowboard waxing! Starting at 5pm\, bring your gear by\, Snowforlife will wax until 8pm in the order of gear received.
URL:https://highsidebrewing.com/event-detail/frisco-wax-nights-3/2026-01-27/
LOCATION:Frisco\, 720 Main St\, Frisco\, CO\, 80443\, United States
CATEGORIES:Waxing Night
ATTACH;FMTTYPE=image/jpeg:https://craftpeak-cooler-images.imgix.net/highside-brewing/HSB1PRSM-24.jpg?auto=compress%2Cformat&ixlib=php-3.3.1&s=b3bf738c5851367ca749f7872f5a97b4
END:VEVENT
BEGIN:VEVENT
DTSTART;TZID=America/Denver:20260414T170000
DTEND;TZID=America/Denver:20260414T200000
DTSTAMP:20260423T102848
CREATED:20251027T184349Z
LAST-MODIFIED:20251027T184413Z
UID:10007117-1776186000-1776196800@highsidebrewing.com
SUMMARY:Frisco: Wax Nights
DESCRIPTION:Join Snowforlife every Tuesday in Frisco for FREE ski and snowboard waxing! Starting at 5pm\, bring your gear by\, Snowforlife will wax until 8pm in the order of gear received.
URL:https://highsidebrewing.com/event-detail/frisco-wax-nights-3/2026-04-14/
LOCATION:Frisco\, 720 Main St\, Frisco\, CO\, 80443\, United States
CATEGORIES:Waxing Night
ATTACH;FMTTYPE=image/jpeg:https://craftpeak-cooler-images.imgix.net/highside-brewing/HSB1PRSM-24.jpg?auto=compress%2Cformat&ixlib=php-3.3.1&s=b3bf738c5851367ca749f7872f5a97b4
END:VEVENT
BEGIN:VEVENT
DTSTART;TZID=America/Denver:20251118T170000
DTEND;TZID=America/Denver:20251118T200000
DTSTAMP:20260423T102848
CREATED:20251027T184349Z
LAST-MODIFIED:20251027T184413Z
UID:10007096-1763485200-1763496000@highsidebrewing.com
SUMMARY:Frisco: Wax Nights
DESCRIPTION:Join Snowforlife every Tuesday in Frisco for FREE ski and snowboard waxing! Starting at 5pm\, bring your gear by\, Snowforlife will wax until 8pm in the order of gear received.
URL:https://highsidebrewing.com/event-detail/frisco-wax-nights-3/2025-11-18/
LOCATION:Frisco\, 720 Main St\, Frisco\, CO\, 80443\, United States
CATEGORIES:Waxing Night
ATTACH;FMTTYPE=image/jpeg:https://craftpeak-cooler-images.imgix.net/highside-brewing/HSB1PRSM-24.jpg?auto=compress%2Cformat&ixlib=php-3.3.1&s=b3bf738c5851367ca749f7872f5a97b4
END:VEVENT
BEGIN:VEVENT
DTSTART;TZID=America/Denver:20260203T170000
DTEND;TZID=America/Denver:20260203T200000
DTSTAMP:20260423T102848
CREATED:20251027T184349Z
LAST-MODIFIED:20251027T184413Z
UID:10007107-1770138000-1770148800@highsidebrewing.com
SUMMARY:Frisco: Wax Nights
DESCRIPTION:Join Snowforlife every Tuesday in Frisco for FREE ski and snowboard waxing! Starting at 5pm\, bring your gear by\, Snowforlife will wax until 8pm in the order of gear received.
URL:https://highsidebrewing.com/event-detail/frisco-wax-nights-3/2026-02-03/
LOCATION:Frisco\, 720 Main St\, Frisco\, CO\, 80443\, United States
CATEGORIES:Waxing Night
ATTACH;FMTTYPE=image/jpeg:https://craftpeak-cooler-images.imgix.net/highside-brewing/HSB1PRSM-24.jpg?auto=compress%2Cformat&ixlib=php-3.3.1&s=b3bf738c5851367ca749f7872f5a97b4
END:VEVENT
BEGIN:VEVENT
DTSTART;TZID=America/Denver:20260421T170000
DTEND;TZID=America/Denver:20260421T200000
DTSTAMP:20260423T102848
CREATED:20251027T184349Z
LAST-MODIFIED:20251027T184413Z
UID:10007118-1776790800-1776801600@highsidebrewing.com
SUMMARY:Frisco: Wax Nights
DESCRIPTION:Join Snowforlife every Tuesday in Frisco for FREE ski and snowboard waxing! Starting at 5pm\, bring your gear by\, Snowforlife will wax until 8pm in the order of gear received.
URL:https://highsidebrewing.com/event-detail/frisco-wax-nights-3/2026-04-21/
LOCATION:Frisco\, 720 Main St\, Frisco\, CO\, 80443\, United States
CATEGORIES:Waxing Night
ATTACH;FMTTYPE=image/jpeg:https://craftpeak-cooler-images.imgix.net/highside-brewing/HSB1PRSM-24.jpg?auto=compress%2Cformat&ixlib=php-3.3.1&s=b3bf738c5851367ca749f7872f5a97b4
END:VEVENT
BEGIN:VEVENT
DTSTART;TZID=America/Denver:20251125T170000
DTEND;TZID=America/Denver:20251125T200000
DTSTAMP:20260423T102848
CREATED:20251027T184349Z
LAST-MODIFIED:20251027T184413Z
UID:10007097-1764090000-1764100800@highsidebrewing.com
SUMMARY:Frisco: Wax Nights
DESCRIPTION:Join Snowforlife every Tuesday in Frisco for FREE ski and snowboard waxing! Starting at 5pm\, bring your gear by\, Snowforlife will wax until 8pm in the order of gear received.
URL:https://highsidebrewing.com/event-detail/frisco-wax-nights-3/2025-11-25/
LOCATION:Frisco\, 720 Main St\, Frisco\, CO\, 80443\, United States
CATEGORIES:Waxing Night
ATTACH;FMTTYPE=image/jpeg:https://craftpeak-cooler-images.imgix.net/highside-brewing/HSB1PRSM-24.jpg?auto=compress%2Cformat&ixlib=php-3.3.1&s=b3bf738c5851367ca749f7872f5a97b4
END:VEVENT
BEGIN:VEVENT
DTSTART;TZID=America/Denver:20260210T170000
DTEND;TZID=America/Denver:20260210T200000
DTSTAMP:20260423T102848
CREATED:20251027T184349Z
LAST-MODIFIED:20251027T184413Z
UID:10007108-1770742800-1770753600@highsidebrewing.com
SUMMARY:Frisco: Wax Nights
DESCRIPTION:Join Snowforlife every Tuesday in Frisco for FREE ski and snowboard waxing! Starting at 5pm\, bring your gear by\, Snowforlife will wax until 8pm in the order of gear received.
URL:https://highsidebrewing.com/event-detail/frisco-wax-nights-3/2026-02-10/
LOCATION:Frisco\, 720 Main St\, Frisco\, CO\, 80443\, United States
CATEGORIES:Waxing Night
ATTACH;FMTTYPE=image/jpeg:https://craftpeak-cooler-images.imgix.net/highside-brewing/HSB1PRSM-24.jpg?auto=compress%2Cformat&ixlib=php-3.3.1&s=b3bf738c5851367ca749f7872f5a97b4
END:VEVENT
BEGIN:VEVENT
DTSTART;TZID=America/Denver:20251202T170000
DTEND;TZID=America/Denver:20251202T200000
DTSTAMP:20260423T102848
CREATED:20251027T184349Z
LAST-MODIFIED:20251027T184413Z
UID:10007098-1764694800-1764705600@highsidebrewing.com
SUMMARY:Frisco: Wax Nights
DESCRIPTION:Join Snowforlife every Tuesday in Frisco for FREE ski and snowboard waxing! Starting at 5pm\, bring your gear by\, Snowforlife will wax until 8pm in the order of gear received.
URL:https://highsidebrewing.com/event-detail/frisco-wax-nights-3/2025-12-02/
LOCATION:Frisco\, 720 Main St\, Frisco\, CO\, 80443\, United States
CATEGORIES:Waxing Night
ATTACH;FMTTYPE=image/jpeg:https://craftpeak-cooler-images.imgix.net/highside-brewing/HSB1PRSM-24.jpg?auto=compress%2Cformat&ixlib=php-3.3.1&s=b3bf738c5851367ca749f7872f5a97b4
END:VEVENT
BEGIN:VEVENT
DTSTART;TZID=America/Denver:20260217T170000
DTEND;TZID=America/Denver:20260217T200000
DTSTAMP:20260423T102848
CREATED:20251027T184349Z
LAST-MODIFIED:20251027T184413Z
UID:10007109-1771347600-1771358400@highsidebrewing.com
SUMMARY:Frisco: Wax Nights
DESCRIPTION:Join Snowforlife every Tuesday in Frisco for FREE ski and snowboard waxing! Starting at 5pm\, bring your gear by\, Snowforlife will wax until 8pm in the order of gear received.
URL:https://highsidebrewing.com/event-detail/frisco-wax-nights-3/2026-02-17/
LOCATION:Frisco\, 720 Main St\, Frisco\, CO\, 80443\, United States
CATEGORIES:Waxing Night
ATTACH;FMTTYPE=image/jpeg:https://craftpeak-cooler-images.imgix.net/highside-brewing/HSB1PRSM-24.jpg?auto=compress%2Cformat&ixlib=php-3.3.1&s=b3bf738c5851367ca749f7872f5a97b4
END:VEVENT
BEGIN:VEVENT
DTSTART;TZID=America/Denver:20251209T170000
DTEND;TZID=America/Denver:20251209T200000
DTSTAMP:20260423T102848
CREATED:20251027T184349Z
LAST-MODIFIED:20251027T184413Z
UID:10007099-1765299600-1765310400@highsidebrewing.com
SUMMARY:Frisco: Wax Nights
DESCRIPTION:Join Snowforlife every Tuesday in Frisco for FREE ski and snowboard waxing! Starting at 5pm\, bring your gear by\, Snowforlife will wax until 8pm in the order of gear received.
URL:https://highsidebrewing.com/event-detail/frisco-wax-nights-3/2025-12-09/
LOCATION:Frisco\, 720 Main St\, Frisco\, CO\, 80443\, United States
CATEGORIES:Waxing Night
ATTACH;FMTTYPE=image/jpeg:https://craftpeak-cooler-images.imgix.net/highside-brewing/HSB1PRSM-24.jpg?auto=compress%2Cformat&ixlib=php-3.3.1&s=b3bf738c5851367ca749f7872f5a97b4
END:VEVENT
BEGIN:VEVENT
DTSTART;TZID=America/Denver:20260224T170000
DTEND;TZID=America/Denver:20260224T200000
DTSTAMP:20260423T102848
CREATED:20251027T184349Z
LAST-MODIFIED:20251027T184413Z
UID:10007110-1771952400-1771963200@highsidebrewing.com
SUMMARY:Frisco: Wax Nights
DESCRIPTION:Join Snowforlife every Tuesday in Frisco for FREE ski and snowboard waxing! Starting at 5pm\, bring your gear by\, Snowforlife will wax until 8pm in the order of gear received.
URL:https://highsidebrewing.com/event-detail/frisco-wax-nights-3/2026-02-24/
LOCATION:Frisco\, 720 Main St\, Frisco\, CO\, 80443\, United States
CATEGORIES:Waxing Night
ATTACH;FMTTYPE=image/jpeg:https://craftpeak-cooler-images.imgix.net/highside-brewing/HSB1PRSM-24.jpg?auto=compress%2Cformat&ixlib=php-3.3.1&s=b3bf738c5851367ca749f7872f5a97b4
END:VEVENT
BEGIN:VEVENT
DTSTART;TZID=America/Denver:20251216T170000
DTEND;TZID=America/Denver:20251216T200000
DTSTAMP:20260423T102848
CREATED:20251027T184349Z
LAST-MODIFIED:20251027T184413Z
UID:10007100-1765904400-1765915200@highsidebrewing.com
SUMMARY:Frisco: Wax Nights
DESCRIPTION:Join Snowforlife every Tuesday in Frisco for FREE ski and snowboard waxing! Starting at 5pm\, bring your gear by\, Snowforlife will wax until 8pm in the order of gear received.
URL:https://highsidebrewing.com/event-detail/frisco-wax-nights-3/2025-12-16/
LOCATION:Frisco\, 720 Main St\, Frisco\, CO\, 80443\, United States
CATEGORIES:Waxing Night
ATTACH;FMTTYPE=image/jpeg:https://craftpeak-cooler-images.imgix.net/highside-brewing/HSB1PRSM-24.jpg?auto=compress%2Cformat&ixlib=php-3.3.1&s=b3bf738c5851367ca749f7872f5a97b4
END:VEVENT
BEGIN:VEVENT
DTSTART;TZID=America/Denver:20260303T170000
DTEND;TZID=America/Denver:20260303T200000
DTSTAMP:20260423T102848
CREATED:20251027T184349Z
LAST-MODIFIED:20251027T184413Z
UID:10007111-1772557200-1772568000@highsidebrewing.com
SUMMARY:Frisco: Wax Nights
DESCRIPTION:Join Snowforlife every Tuesday in Frisco for FREE ski and snowboard waxing! Starting at 5pm\, bring your gear by\, Snowforlife will wax until 8pm in the order of gear received.
URL:https://highsidebrewing.com/event-detail/frisco-wax-nights-3/2026-03-03/
LOCATION:Frisco\, 720 Main St\, Frisco\, CO\, 80443\, United States
CATEGORIES:Waxing Night
ATTACH;FMTTYPE=image/jpeg:https://craftpeak-cooler-images.imgix.net/highside-brewing/HSB1PRSM-24.jpg?auto=compress%2Cformat&ixlib=php-3.3.1&s=b3bf738c5851367ca749f7872f5a97b4
END:VEVENT
BEGIN:VEVENT
DTSTART;TZID=America/Denver:20251110T180000
DTEND;TZID=America/Denver:20251110T190000
DTSTAMP:20260423T102848
CREATED:20250908T193243Z
LAST-MODIFIED:20260420T163857Z
UID:10006048-1762797600-1762801200@highsidebrewing.com
SUMMARY:Frisco Run Club
DESCRIPTION:Hosted by Summit County Run Club \nMeet up @ Highside Brewing Frisco for weekly runs with some amazing people. \n$5 Drafts afterwards! \nAll abilities welcome!
URL:https://highsidebrewing.com/event-detail/frisco-run-club/2025-11-10/
LOCATION:Frisco\, 720 Main St\, Frisco\, CO\, 80443\, United States
ATTACH;FMTTYPE=image/png:https://craftpeak-cooler-images.imgix.net/highside-brewing/Run-Club-11.png?auto=compress%2Cformat&ixlib=php-3.3.1&s=69c37abc9f63a40529c1ae1453e28cbc
END:VEVENT
BEGIN:VEVENT
DTSTART;TZID=America/Denver:20260126T180000
DTEND;TZID=America/Denver:20260126T190000
DTSTAMP:20260423T102848
CREATED:20250908T193243Z
LAST-MODIFIED:20260420T163857Z
UID:10006059-1769450400-1769454000@highsidebrewing.com
SUMMARY:Frisco Run Club
DESCRIPTION:Hosted by Summit County Run Club \nMeet up @ Highside Brewing Frisco for weekly runs with some amazing people. \n$5 Drafts afterwards! \nAll abilities welcome!
URL:https://highsidebrewing.com/event-detail/frisco-run-club/2026-01-26/
LOCATION:Frisco\, 720 Main St\, Frisco\, CO\, 80443\, United States
ATTACH;FMTTYPE=image/png:https://craftpeak-cooler-images.imgix.net/highside-brewing/Run-Club-11.png?auto=compress%2Cformat&ixlib=php-3.3.1&s=69c37abc9f63a40529c1ae1453e28cbc
END:VEVENT
BEGIN:VEVENT
DTSTART;TZID=America/Denver:20260413T180000
DTEND;TZID=America/Denver:20260413T190000
DTSTAMP:20260423T102848
CREATED:20250908T193243Z
LAST-MODIFIED:20260420T163857Z
UID:10006070-1776103200-1776106800@highsidebrewing.com
SUMMARY:Frisco Run Club
DESCRIPTION:Hosted by Summit County Run Club \nMeet up @ Highside Brewing Frisco for weekly runs with some amazing people. \n$5 Drafts afterwards! \nAll abilities welcome!
URL:https://highsidebrewing.com/event-detail/frisco-run-club/2026-04-13/
LOCATION:Frisco\, 720 Main St\, Frisco\, CO\, 80443\, United States
ATTACH;FMTTYPE=image/png:https://craftpeak-cooler-images.imgix.net/highside-brewing/Run-Club-11.png?auto=compress%2Cformat&ixlib=php-3.3.1&s=69c37abc9f63a40529c1ae1453e28cbc
END:VEVENT
BEGIN:VEVENT
DTSTART;TZID=America/Denver:20251117T180000
DTEND;TZID=America/Denver:20251117T190000
DTSTAMP:20260423T102848
CREATED:20250908T193243Z
LAST-MODIFIED:20260420T163857Z
UID:10006049-1763402400-1763406000@highsidebrewing.com
SUMMARY:Frisco Run Club
DESCRIPTION:Hosted by Summit County Run Club \nMeet up @ Highside Brewing Frisco for weekly runs with some amazing people. \n$5 Drafts afterwards! \nAll abilities welcome!
URL:https://highsidebrewing.com/event-detail/frisco-run-club/2025-11-17/
LOCATION:Frisco\, 720 Main St\, Frisco\, CO\, 80443\, United States
ATTACH;FMTTYPE=image/png:https://craftpeak-cooler-images.imgix.net/highside-brewing/Run-Club-11.png?auto=compress%2Cformat&ixlib=php-3.3.1&s=69c37abc9f63a40529c1ae1453e28cbc
END:VEVENT
BEGIN:VEVENT
DTSTART;TZID=America/Denver:20260202T180000
DTEND;TZID=America/Denver:20260202T190000
DTSTAMP:20260423T102848
CREATED:20250908T193243Z
LAST-MODIFIED:20260420T163857Z
UID:10006060-1770055200-1770058800@highsidebrewing.com
SUMMARY:Frisco Run Club
DESCRIPTION:Hosted by Summit County Run Club \nMeet up @ Highside Brewing Frisco for weekly runs with some amazing people. \n$5 Drafts afterwards! \nAll abilities welcome!
URL:https://highsidebrewing.com/event-detail/frisco-run-club/2026-02-02/
LOCATION:Frisco\, 720 Main St\, Frisco\, CO\, 80443\, United States
ATTACH;FMTTYPE=image/png:https://craftpeak-cooler-images.imgix.net/highside-brewing/Run-Club-11.png?auto=compress%2Cformat&ixlib=php-3.3.1&s=69c37abc9f63a40529c1ae1453e28cbc
END:VEVENT
BEGIN:VEVENT
DTSTART;TZID=America/Denver:20250908T180000
DTEND;TZID=America/Denver:20250908T190000
DTSTAMP:20260423T102848
CREATED:20250908T193243Z
LAST-MODIFIED:20260420T163857Z
UID:10006039-1757354400-1757358000@highsidebrewing.com
SUMMARY:Frisco Run Club
DESCRIPTION:Hosted by Summit County Run Club \nMeet up @ Highside Brewing Frisco for weekly runs with some amazing people. \n$5 Drafts afterwards! \nAll abilities welcome!
URL:https://highsidebrewing.com/event-detail/frisco-run-club/2025-09-08/
LOCATION:Frisco\, 720 Main St\, Frisco\, CO\, 80443\, United States
ATTACH;FMTTYPE=image/png:https://craftpeak-cooler-images.imgix.net/highside-brewing/Run-Club-11.png?auto=compress%2Cformat&ixlib=php-3.3.1&s=69c37abc9f63a40529c1ae1453e28cbc
END:VEVENT
BEGIN:VEVENT
DTSTART;TZID=America/Denver:20260420T180000
DTEND;TZID=America/Denver:20260420T190000
DTSTAMP:20260423T102848
CREATED:20250908T193243Z
LAST-MODIFIED:20260420T163857Z
UID:10006071-1776708000-1776711600@highsidebrewing.com
SUMMARY:Frisco Run Club
DESCRIPTION:Hosted by Summit County Run Club \nMeet up @ Highside Brewing Frisco for weekly runs with some amazing people. \n$5 Drafts afterwards! \nAll abilities welcome!
URL:https://highsidebrewing.com/event-detail/frisco-run-club/2026-04-20/
LOCATION:Frisco\, 720 Main St\, Frisco\, CO\, 80443\, United States
ATTACH;FMTTYPE=image/png:https://craftpeak-cooler-images.imgix.net/highside-brewing/Run-Club-11.png?auto=compress%2Cformat&ixlib=php-3.3.1&s=69c37abc9f63a40529c1ae1453e28cbc
END:VEVENT
BEGIN:VEVENT
DTSTART;TZID=America/Denver:20251124T180000
DTEND;TZID=America/Denver:20251124T190000
DTSTAMP:20260423T102848
CREATED:20250908T193243Z
LAST-MODIFIED:20260420T163857Z
UID:10006050-1764007200-1764010800@highsidebrewing.com
SUMMARY:Frisco Run Club
DESCRIPTION:Hosted by Summit County Run Club \nMeet up @ Highside Brewing Frisco for weekly runs with some amazing people. \n$5 Drafts afterwards! \nAll abilities welcome!
URL:https://highsidebrewing.com/event-detail/frisco-run-club/2025-11-24/
LOCATION:Frisco\, 720 Main St\, Frisco\, CO\, 80443\, United States
ATTACH;FMTTYPE=image/png:https://craftpeak-cooler-images.imgix.net/highside-brewing/Run-Club-11.png?auto=compress%2Cformat&ixlib=php-3.3.1&s=69c37abc9f63a40529c1ae1453e28cbc
END:VEVENT
BEGIN:VEVENT
DTSTART;TZID=America/Denver:20260209T180000
DTEND;TZID=America/Denver:20260209T190000
DTSTAMP:20260423T102848
CREATED:20250908T193243Z
LAST-MODIFIED:20260420T163857Z
UID:10006061-1770660000-1770663600@highsidebrewing.com
SUMMARY:Frisco Run Club
DESCRIPTION:Hosted by Summit County Run Club \nMeet up @ Highside Brewing Frisco for weekly runs with some amazing people. \n$5 Drafts afterwards! \nAll abilities welcome!
URL:https://highsidebrewing.com/event-detail/frisco-run-club/2026-02-09/
LOCATION:Frisco\, 720 Main St\, Frisco\, CO\, 80443\, United States
ATTACH;FMTTYPE=image/png:https://craftpeak-cooler-images.imgix.net/highside-brewing/Run-Club-11.png?auto=compress%2Cformat&ixlib=php-3.3.1&s=69c37abc9f63a40529c1ae1453e28cbc
END:VEVENT
BEGIN:VEVENT
DTSTART;TZID=America/Denver:20250915T180000
DTEND;TZID=America/Denver:20250915T190000
DTSTAMP:20260423T102848
CREATED:20250908T193243Z
LAST-MODIFIED:20260420T163857Z
UID:10006040-1757959200-1757962800@highsidebrewing.com
SUMMARY:Frisco Run Club
DESCRIPTION:Hosted by Summit County Run Club \nMeet up @ Highside Brewing Frisco for weekly runs with some amazing people. \n$5 Drafts afterwards! \nAll abilities welcome!
URL:https://highsidebrewing.com/event-detail/frisco-run-club/2025-09-15/
LOCATION:Frisco\, 720 Main St\, Frisco\, CO\, 80443\, United States
ATTACH;FMTTYPE=image/png:https://craftpeak-cooler-images.imgix.net/highside-brewing/Run-Club-11.png?auto=compress%2Cformat&ixlib=php-3.3.1&s=69c37abc9f63a40529c1ae1453e28cbc
END:VEVENT
BEGIN:VEVENT
DTSTART;TZID=America/Denver:20251201T180000
DTEND;TZID=America/Denver:20251201T190000
DTSTAMP:20260423T102848
CREATED:20250908T193243Z
LAST-MODIFIED:20260420T163857Z
UID:10006051-1764612000-1764615600@highsidebrewing.com
SUMMARY:Frisco Run Club
DESCRIPTION:Hosted by Summit County Run Club \nMeet up @ Highside Brewing Frisco for weekly runs with some amazing people. \n$5 Drafts afterwards! \nAll abilities welcome!
URL:https://highsidebrewing.com/event-detail/frisco-run-club/2025-12-01/
LOCATION:Frisco\, 720 Main St\, Frisco\, CO\, 80443\, United States
ATTACH;FMTTYPE=image/png:https://craftpeak-cooler-images.imgix.net/highside-brewing/Run-Club-11.png?auto=compress%2Cformat&ixlib=php-3.3.1&s=69c37abc9f63a40529c1ae1453e28cbc
END:VEVENT
BEGIN:VEVENT
DTSTART;TZID=America/Denver:20260216T180000
DTEND;TZID=America/Denver:20260216T190000
DTSTAMP:20260423T102848
CREATED:20250908T193243Z
LAST-MODIFIED:20260420T163857Z
UID:10006062-1771264800-1771268400@highsidebrewing.com
SUMMARY:Frisco Run Club
DESCRIPTION:Hosted by Summit County Run Club \nMeet up @ Highside Brewing Frisco for weekly runs with some amazing people. \n$5 Drafts afterwards! \nAll abilities welcome!
URL:https://highsidebrewing.com/event-detail/frisco-run-club/2026-02-16/
LOCATION:Frisco\, 720 Main St\, Frisco\, CO\, 80443\, United States
ATTACH;FMTTYPE=image/png:https://craftpeak-cooler-images.imgix.net/highside-brewing/Run-Club-11.png?auto=compress%2Cformat&ixlib=php-3.3.1&s=69c37abc9f63a40529c1ae1453e28cbc
END:VEVENT
BEGIN:VEVENT
DTSTART;TZID=America/Denver:20250922T180000
DTEND;TZID=America/Denver:20250922T190000
DTSTAMP:20260423T102848
CREATED:20250908T193243Z
LAST-MODIFIED:20260420T163857Z
UID:10006041-1758564000-1758567600@highsidebrewing.com
SUMMARY:Frisco Run Club
DESCRIPTION:Hosted by Summit County Run Club \nMeet up @ Highside Brewing Frisco for weekly runs with some amazing people. \n$5 Drafts afterwards! \nAll abilities welcome!
URL:https://highsidebrewing.com/event-detail/frisco-run-club/2025-09-22/
LOCATION:Frisco\, 720 Main St\, Frisco\, CO\, 80443\, United States
ATTACH;FMTTYPE=image/png:https://craftpeak-cooler-images.imgix.net/highside-brewing/Run-Club-11.png?auto=compress%2Cformat&ixlib=php-3.3.1&s=69c37abc9f63a40529c1ae1453e28cbc
END:VEVENT
BEGIN:VEVENT
DTSTART;TZID=America/Denver:20251208T180000
DTEND;TZID=America/Denver:20251208T190000
DTSTAMP:20260423T102848
CREATED:20250908T193243Z
LAST-MODIFIED:20260420T163857Z
UID:10006052-1765216800-1765220400@highsidebrewing.com
SUMMARY:Frisco Run Club
DESCRIPTION:Hosted by Summit County Run Club \nMeet up @ Highside Brewing Frisco for weekly runs with some amazing people. \n$5 Drafts afterwards! \nAll abilities welcome!
URL:https://highsidebrewing.com/event-detail/frisco-run-club/2025-12-08/
LOCATION:Frisco\, 720 Main St\, Frisco\, CO\, 80443\, United States
ATTACH;FMTTYPE=image/png:https://craftpeak-cooler-images.imgix.net/highside-brewing/Run-Club-11.png?auto=compress%2Cformat&ixlib=php-3.3.1&s=69c37abc9f63a40529c1ae1453e28cbc
END:VEVENT
END:VCALENDAR